Package: spacexr Version: 1.1.0 Command: /home/biocbuild/bbs-3.22-bioc/R/bin/R CMD build --keep-empty-dirs --no-resave-data --md5 spacexr StartedAt: 2025-09-21 20:06:39 -0400 (Sun, 21 Sep 2025) EndedAt: 2025-09-21 20:08:19 -0400 (Sun, 21 Sep 2025) EllapsedTime: 100.1 seconds RetCode: 0 Status: OK PackageFile: spacexr_1.1.0.tar.gz PackageFileSize: 432.6 KiB