Package: spacexr Version: 1.3.0 Command: /home/biocbuild/bbs-3.23-bioc/R/bin/R CMD INSTALL spacexr StartedAt: 2025-11-05 15:27:19 -0500 (Wed, 05 Nov 2025) EndedAt: 2025-11-05 15:27:47 -0500 (Wed, 05 Nov 2025) EllapsedTime: 28.9 seconds RetCode: 0 Status: OK