Package: spacexr Version: 1.3.0 Command: /home/biocbuild/bbs-3.23-bioc/R/bin/R CMD build --keep-empty-dirs --no-resave-data spacexr StartedAt: 2025-11-05 20:11:46 -0500 (Wed, 05 Nov 2025) EndedAt: 2025-11-05 20:13:24 -0500 (Wed, 05 Nov 2025) EllapsedTime: 98.1 seconds RetCode: 0 Status: OK PackageFile: spacexr_1.3.0.tar.gz PackageFileSize: 430.4 KiB