Package: spacexr Version: 1.1.1 Command: /Library/Frameworks/R.framework/Resources/bin/R CMD INSTALL spacexr StartedAt: 2025-10-19 15:23:19 -0400 (Sun, 19 Oct 2025) EndedAt: 2025-10-19 15:23:59 -0400 (Sun, 19 Oct 2025) EllapsedTime: 40.3 seconds RetCode: 0 Status: OK