Package: spacexr Version: 1.1.1 Command: /Library/Frameworks/R.framework/Resources/bin/R CMD build --keep-empty-dirs --no-resave-data spacexr StartedAt: 2025-10-19 19:34:36 -0400 (Sun, 19 Oct 2025) EndedAt: 2025-10-19 19:36:57 -0400 (Sun, 19 Oct 2025) EllapsedTime: 141.3 seconds RetCode: 0 Status: OK PackageFile: spacexr_1.1.1.tar.gz PackageFileSize: 482.8 KiB