Package: spacexr Version: 1.1.1 Command: rm -rf spacexr.buildbin-libdir && mkdir spacexr.buildbin-libdir && /Users/biocbuild/BBS/utils/build-universal.sh spacexr_1.1.1.tar.gz /Library/Frameworks/R.framework/Resources/bin/R spacexr.buildbin-libdir StartedAt: 2025-10-20 03:35:22 -0400 (Mon, 20 Oct 2025) EndedAt: 2025-10-20 03:36:07 -0400 (Mon, 20 Oct 2025) EllapsedTime: 45.0 seconds RetCode: 0 Status: OK PackageFile: spacexr_1.1.1.tgz PackageFileSize: 999 KiB