Package: spacexr Version: 1.1.1 Command: /Library/Frameworks/R.framework/Resources/bin/R CMD INSTALL spacexr StartedAt: 2025-10-10 15:14:56 -0400 (Fri, 10 Oct 2025) EndedAt: 2025-10-10 15:15:08 -0400 (Fri, 10 Oct 2025) EllapsedTime: 12.2 seconds RetCode: 0 Status: OK