Package: spacexr Version: 1.1.1 Command: /Library/Frameworks/R.framework/Resources/bin/R CMD build --keep-empty-dirs --no-resave-data spacexr StartedAt: 2025-10-10 17:46:53 -0400 (Fri, 10 Oct 2025) EndedAt: 2025-10-10 17:47:35 -0400 (Fri, 10 Oct 2025) EllapsedTime: 42.5 seconds RetCode: 0 Status: OK PackageFile: spacexr_1.1.1.tar.gz PackageFileSize: 482.9 KiB