Package: spacexr Version: 1.1.1 Command: rm -rf spacexr.buildbin-libdir && mkdir spacexr.buildbin-libdir && /Users/biocbuild/BBS/utils/build-universal.sh spacexr_1.1.1.tar.gz /Library/Frameworks/R.framework/Resources/bin/R spacexr.buildbin-libdir StartedAt: 2025-10-10 22:58:38 -0400 (Fri, 10 Oct 2025) EndedAt: 2025-10-10 22:58:52 -0400 (Fri, 10 Oct 2025) EllapsedTime: 13.3 seconds RetCode: 0 Status: OK PackageFile: spacexr_1.1.1.tgz PackageFileSize: 1002 KiB