Package: spaSim Version: 1.11.0 Command: /Library/Frameworks/R.framework/Resources/bin/R CMD INSTALL spaSim StartedAt: 2025-05-06 15:18:27 -0400 (Tue, 06 May 2025) EndedAt: 2025-05-06 15:18:38 -0400 (Tue, 06 May 2025) EllapsedTime: 11.5 seconds RetCode: 0 Status: OK