Package: spaSim Version: 1.11.0 Command: /Library/Frameworks/R.framework/Resources/bin/R CMD check --install=check:spaSim.install-out.txt --library=/Library/Frameworks/R.framework/Resources/library --no-vignettes --timings spaSim_1.11.0.tar.gz StartedAt: 2025-05-07 22:07:12 -0400 (Wed, 07 May 2025) EndedAt: 2025-05-07 22:09:27 -0400 (Wed, 07 May 2025) EllapsedTime: 135.6 seconds RetCode: 0 Status: OK CheckDir: spaSim.Rcheck Warnings: 0