Package: spaSim Version: 1.11.0 Command: /Library/Frameworks/R.framework/Resources/bin/R CMD build --keep-empty-dirs --no-resave-data spaSim StartedAt: 2025-05-07 17:47:51 -0400 (Wed, 07 May 2025) EndedAt: 2025-05-07 17:48:45 -0400 (Wed, 07 May 2025) EllapsedTime: 53.6 seconds RetCode: 0 Status: OK PackageFile: spaSim_1.11.0.tar.gz PackageFileSize: 3.901 MiB