Package: spARI Version: 0.99.17 Command: /home/biocbuild/bbs-3.22-bioc/R/bin/R CMD INSTALL spARI StartedAt: 2025-10-09 15:22:51 -0400 (Thu, 09 Oct 2025) EndedAt: 2025-10-09 15:23:19 -0400 (Thu, 09 Oct 2025) EllapsedTime: 27.7 seconds RetCode: 0 Status: OK