Package: spARI Version: 0.99.17 Command: /home/biocbuild/bbs-3.22-bioc/R/bin/R CMD build --keep-empty-dirs --no-resave-data --md5 spARI StartedAt: 2025-10-09 20:14:50 -0400 (Thu, 09 Oct 2025) EndedAt: 2025-10-09 20:16:03 -0400 (Thu, 09 Oct 2025) EllapsedTime: 73.0 seconds RetCode: 0 Status: OK PackageFile: spARI_0.99.17.tar.gz PackageFileSize: 301.4 KiB