Package: spARI Version: 1.1.0 Command: /Library/Frameworks/R.framework/Resources/bin/R CMD INSTALL spARI StartedAt: 2025-11-21 15:13:03 -0500 (Fri, 21 Nov 2025) EndedAt: 2025-11-21 15:13:15 -0500 (Fri, 21 Nov 2025) EllapsedTime: 11.8 seconds RetCode: 0 Status: OK