Package: sosta Version: 0.99.9 Command: /home/biocbuild/bbs-3.21-bioc/R/bin/R CMD INSTALL sosta StartedAt: 2025-04-14 15:23:38 -0400 (Mon, 14 Apr 2025) EndedAt: 2025-04-14 15:24:17 -0400 (Mon, 14 Apr 2025) EllapsedTime: 39.7 seconds RetCode: 0 Status: OK