Package: sosta Version: 0.99.3 Command: /home/biocbuild/bbs-3.21-bioc/R/bin/R CMD build --keep-empty-dirs --no-resave-data sosta StartedAt: 2025-02-05 19:21:18 -0500 (Wed, 05 Feb 2025) EndedAt: 2025-02-05 19:24:49 -0500 (Wed, 05 Feb 2025) EllapsedTime: 211.2 seconds RetCode: 0 Status: OK PackageFile: sosta_0.99.3.tar.gz PackageFileSize: 2.11 MiB