Package: sosta Version: 0.99.7 Command: /Library/Frameworks/R.framework/Resources/bin/R CMD check --install=check:sosta.install-out.txt --library=/Library/Frameworks/R.framework/Resources/library --no-vignettes --timings sosta_0.99.7.tar.gz StartedAt: 2025-04-13 23:42:31 -0400 (Sun, 13 Apr 2025) EndedAt: 2025-04-13 23:48:53 -0400 (Sun, 13 Apr 2025) EllapsedTime: 382.1 seconds RetCode: 0 Status: OK CheckDir: sosta.Rcheck Warnings: 0