Package: sosta Version: 0.99.4 Command: /Library/Frameworks/R.framework/Resources/bin/R CMD build --keep-empty-dirs --no-resave-data sosta StartedAt: 2025-02-10 18:24:21 -0500 (Mon, 10 Feb 2025) EndedAt: 2025-02-10 18:29:51 -0500 (Mon, 10 Feb 2025) EllapsedTime: 329.4 seconds RetCode: 0 Status: OK PackageFile: sosta_0.99.4.tar.gz PackageFileSize: 2.163 MiB