Package: sosta Version: 0.99.3 Command: rm -rf sosta.buildbin-libdir && mkdir sosta.buildbin-libdir && /Users/biocbuild/BBS/utils/build-universal.sh sosta_0.99.3.tar.gz /Library/Frameworks/R.framework/Resources/bin/R sosta.buildbin-libdir StartedAt: 2025-02-06 00:54:03 -0500 (Thu, 06 Feb 2025) EndedAt: 2025-02-06 00:54:59 -0500 (Thu, 06 Feb 2025) EllapsedTime: 55.3 seconds RetCode: 0 Status: OK PackageFile: sosta_0.99.3.tgz PackageFileSize: 2.219 MiB