Package: sosta Version: 0.99.3 Command: /home/biocbuild/R/R/bin/R CMD INSTALL sosta StartedAt: 2025-01-29 19:49:31 -0000 (Wed, 29 Jan 2025) EndedAt: 2025-01-29 19:49:32 -0000 (Wed, 29 Jan 2025) EllapsedTime: 1.2 seconds RetCode: 1 Status: ERROR