############################################################################## ############################################################################## ### ### Running command: ### ### /home/biocbuild/R/R/bin/R CMD INSTALL sosta ### ############################################################################## ############################################################################## * installing to library ‘/home/biocbuild/R/R-4.5.0-devel_2024-11-24/site-library’ ERROR: dependencies ‘terra’, ‘smoothr’ are not available for package ‘sosta’ Perhaps try a variation of: install.packages(c('terra', 'smoothr')) * removing ‘/home/biocbuild/R/R-4.5.0-devel_2024-11-24/site-library/sosta’