############################################################################## ############################################################################## ### ### Running command: ### ### /home/biocbuild/R/R/bin/R CMD build --keep-empty-dirs --no-resave-data sosta ### ############################################################################## ############################################################################## * checking for file ‘sosta/DESCRIPTION’ ... OK * preparing ‘sosta’: * checking DESCRIPTION meta-information ... OK * installing the package to build vignettes ----------------------------------- ERROR: dependencies ‘terra’, ‘smoothr’ are not available for package ‘sosta’ Perhaps try a variation of: install.packages(c('terra', 'smoothr')) * removing ‘/home/biocbuild/tmp/Rtmpj3o40E/Rinst1497476f18a5df/sosta’ ----------------------------------- ERROR: package installation failed