Package: sosta Version: 0.99.3 Command: /Library/Frameworks/R.framework/Resources/bin/R CMD INSTALL sosta StartedAt: 2025-02-04 15:08:58 -0500 (Tue, 04 Feb 2025) EndedAt: 2025-02-04 15:09:12 -0500 (Tue, 04 Feb 2025) EllapsedTime: 14.9 seconds RetCode: 0 Status: OK