Package: sosta Version: 0.99.3 Command: /Library/Frameworks/R.framework/Resources/bin/R CMD check --install=check:sosta.install-out.txt --library=/Library/Frameworks/R.framework/Resources/library --no-vignettes --timings sosta_0.99.3.tar.gz StartedAt: 2025-02-04 21:30:02 -0500 (Tue, 04 Feb 2025) EndedAt: 2025-02-04 21:32:42 -0500 (Tue, 04 Feb 2025) EllapsedTime: 159.8 seconds RetCode: 0 Status: OK CheckDir: sosta.Rcheck Warnings: 0