Package: soGGi Version: 1.41.1 Command: chmod a+r soGGi -R && F:\biocbuild\bbs-3.22-bioc\R\bin\R.exe CMD build --keep-empty-dirs --no-resave-data soGGi StartedAt: 2025-08-14 23:24:00 -0400 (Thu, 14 Aug 2025) EndedAt: 2025-08-14 23:25:50 -0400 (Thu, 14 Aug 2025) EllapsedTime: 109.9 seconds RetCode: 0 Status: OK PackageFile: soGGi_1.41.1.tar.gz PackageFileSize: 3.053 MiB