Package: soGGi Version: 1.41.1 Command: rm -rf soGGi.buildbin-libdir && mkdir soGGi.buildbin-libdir && F:\biocbuild\bbs-3.22-bioc\R\bin\R.exe CMD INSTALL --build --library=soGGi.buildbin-libdir soGGi_1.41.1.tar.gz StartedAt: 2025-08-15 11:22:14 -0400 (Fri, 15 Aug 2025) EndedAt: 2025-08-15 11:23:13 -0400 (Fri, 15 Aug 2025) EllapsedTime: 58.5 seconds RetCode: 0 Status: OK PackageFile: soGGi_1.41.1.zip PackageFileSize: 3.441 MiB