Package: soGGi Version: 1.41.1 Command: /home/biocbuild/bbs-3.22-bioc/R/bin/R CMD INSTALL soGGi StartedAt: 2025-09-30 15:53:34 -0400 (Tue, 30 Sep 2025) EndedAt: 2025-09-30 15:54:16 -0400 (Tue, 30 Sep 2025) EllapsedTime: 42.0 seconds RetCode: 0 Status: OK