Package: snpStats Version: 1.59.2 Command: chmod a+r snpStats -R && F:\biocbuild\bbs-3.22-bioc\R\bin\R.exe CMD build --keep-empty-dirs --no-resave-data snpStats StartedAt: 2025-08-14 23:23:56 -0400 (Thu, 14 Aug 2025) EndedAt: 2025-08-14 23:26:32 -0400 (Thu, 14 Aug 2025) EllapsedTime: 156.1 seconds RetCode: 0 Status: OK PackageFile: snpStats_1.59.2.tar.gz PackageFileSize: 6.746 MiB