Package: snpStats Version: 1.59.2 Command: /home/biocbuild/bbs-3.22-bioc/R/bin/R CMD INSTALL snpStats StartedAt: 2025-10-06 15:11:28 -0400 (Mon, 06 Oct 2025) EndedAt: 2025-10-06 15:11:45 -0400 (Mon, 06 Oct 2025) EllapsedTime: 17.3 seconds RetCode: 0 Status: OK