Package: snm Version: 1.55.0 Command: rm -rf snm.buildbin-libdir && mkdir snm.buildbin-libdir && E:\biocbuild\bbs-3.21-bioc\R\bin\R.exe CMD INSTALL --build --library=snm.buildbin-libdir snm_1.55.0.tar.gz StartedAt: 2025-02-05 08:57:46 -0500 (Wed, 05 Feb 2025) EndedAt: 2025-02-05 08:57:58 -0500 (Wed, 05 Feb 2025) EllapsedTime: 12.8 seconds RetCode: 0 Status: OK PackageFile: snm_1.55.0.zip PackageFileSize: 457.6 KiB