Package: snm Version: 1.57.0 Command: /home/biocbuild/bbs-3.22-bioc/R/bin/R CMD INSTALL snm StartedAt: 2025-09-29 15:05:28 -0400 (Mon, 29 Sep 2025) EndedAt: 2025-09-29 15:05:59 -0400 (Mon, 29 Sep 2025) EllapsedTime: 31.1 seconds RetCode: 0 Status: OK