Package: snm Version: 1.55.0 Command: /home/biocbuild/bbs-3.21-bioc/R/bin/R CMD INSTALL snm StartedAt: 2025-02-05 15:06:33 -0500 (Wed, 05 Feb 2025) EndedAt: 2025-02-05 15:07:03 -0500 (Wed, 05 Feb 2025) EllapsedTime: 30.0 seconds RetCode: 0 Status: OK