Package: snm Version: 1.55.0 Command: /home/biocbuild/bbs-3.21-bioc/R/bin/R CMD build --keep-empty-dirs --no-resave-data snm StartedAt: 2025-02-05 19:20:44 -0500 (Wed, 05 Feb 2025) EndedAt: 2025-02-05 19:22:40 -0500 (Wed, 05 Feb 2025) EllapsedTime: 116.1 seconds RetCode: 0 Status: OK PackageFile: snm_1.55.0.tar.gz PackageFileSize: 727.7 KiB