Package: snm Version: 1.55.0 Command: /Library/Frameworks/R.framework/Resources/bin/R CMD check --install=check:snm.install-out.txt --library=/Library/Frameworks/R.framework/Resources/library --no-vignettes --timings snm_1.55.0.tar.gz StartedAt: 2025-02-04 23:25:02 -0500 (Tue, 04 Feb 2025) EndedAt: 2025-02-04 23:30:05 -0500 (Tue, 04 Feb 2025) EllapsedTime: 303.0 seconds RetCode: 0 Status: OK CheckDir: snm.Rcheck Warnings: 0