Package: snm Version: 1.55.0 Command: /Library/Frameworks/R.framework/Resources/bin/R CMD build --keep-empty-dirs --no-resave-data snm StartedAt: 2025-02-04 18:23:01 -0500 (Tue, 04 Feb 2025) EndedAt: 2025-02-04 18:24:56 -0500 (Tue, 04 Feb 2025) EllapsedTime: 114.3 seconds RetCode: 0 Status: OK PackageFile: snm_1.55.0.tar.gz PackageFileSize: 727.3 KiB