Package: snm Version: 1.55.0 Command: /Library/Frameworks/R.framework/Resources/bin/R CMD INSTALL snm StartedAt: 2025-02-04 15:03:39 -0500 (Tue, 04 Feb 2025) EndedAt: 2025-02-04 15:03:44 -0500 (Tue, 04 Feb 2025) EllapsedTime: 4.8 seconds RetCode: 0 Status: OK