Package: snifter Version: 1.19.3 Command: chmod a+r snifter -R && F:\biocbuild\bbs-3.22-bioc\R\bin\R.exe --arch x64 CMD build --keep-empty-dirs --no-resave-data snifter StartedAt: 2025-08-14 23:23:13 -0400 (Thu, 14 Aug 2025) EndedAt: 2025-08-14 23:25:05 -0400 (Thu, 14 Aug 2025) EllapsedTime: 111.9 seconds RetCode: 0 Status: OK PackageFile: snifter_1.19.3.tar.gz PackageFileSize: 509.8 KiB