Package: snifter Version: 1.19.0 Command: /Library/Frameworks/R.framework/Resources/bin/R CMD check --install=check:snifter.install-out.txt --library=/Library/Frameworks/R.framework/Resources/library --no-vignettes --timings snifter_1.19.0.tar.gz StartedAt: 2025-05-06 23:37:32 -0400 (Tue, 06 May 2025) EndedAt: 2025-05-06 23:40:08 -0400 (Tue, 06 May 2025) EllapsedTime: 156.0 seconds RetCode: 0 Status: OK CheckDir: snifter.Rcheck Warnings: 0