Package: snifter Version: 1.19.0 Command: /Library/Frameworks/R.framework/Resources/bin/R CMD build --keep-empty-dirs --no-resave-data snifter StartedAt: 2025-05-06 18:28:14 -0400 (Tue, 06 May 2025) EndedAt: 2025-05-06 18:29:15 -0400 (Tue, 06 May 2025) EllapsedTime: 60.6 seconds RetCode: 0 Status: OK PackageFile: snifter_1.19.0.tar.gz PackageFileSize: 878.4 KiB