Package: snifter Version: 1.19.0 Command: rm -rf snifter.buildbin-libdir && mkdir snifter.buildbin-libdir && /Users/biocbuild/BBS/utils/build-universal.sh snifter_1.19.0.tar.gz /Library/Frameworks/R.framework/Resources/bin/R snifter.buildbin-libdir StartedAt: 2025-05-07 01:07:43 -0400 (Wed, 07 May 2025) EndedAt: 2025-05-07 01:07:58 -0400 (Wed, 07 May 2025) EllapsedTime: 15.0 seconds RetCode: 0 Status: OK PackageFile: snifter_1.19.0.tgz PackageFileSize: 895.3 KiB