Package: snifter Version: 1.17.0 Command: rm -rf snifter.buildbin-libdir && mkdir snifter.buildbin-libdir && /Users/biocbuild/BBS/utils/build-universal.sh snifter_1.17.0.tar.gz /Library/Frameworks/R.framework/Resources/bin/R snifter.buildbin-libdir StartedAt: 2025-02-03 23:07:21 -0500 (Mon, 03 Feb 2025) EndedAt: 2025-02-03 23:07:25 -0500 (Mon, 03 Feb 2025) EllapsedTime: 4.1 seconds RetCode: 0 Status: OK PackageFile: snifter_1.17.0.tgz PackageFileSize: 894.3 KiB