Package: snapcount Version: 1.21.0 Command: /home/biocbuild/bbs-3.22-bioc/R/bin/R CMD build --keep-empty-dirs --no-resave-data --md5 snapcount StartedAt: 2025-10-03 20:08:00 -0400 (Fri, 03 Oct 2025) EndedAt: 2025-10-03 20:09:35 -0400 (Fri, 03 Oct 2025) EllapsedTime: 95.1 seconds RetCode: 0 Status: OK PackageFile: snapcount_1.21.0.tar.gz PackageFileSize: 516 KiB