Package: smoppix Version: 1.1.8 Command: /home/biocbuild/bbs-3.22-bioc/R/bin/R CMD INSTALL smoppix StartedAt: 2025-09-29 15:27:06 -0400 (Mon, 29 Sep 2025) EndedAt: 2025-09-29 15:28:08 -0400 (Mon, 29 Sep 2025) EllapsedTime: 61.6 seconds RetCode: 0 Status: OK