Package: smoppix Version: 0.99.43 Command: /home/biocbuild/bbs-3.21-bioc/R/bin/R CMD build --keep-empty-dirs --no-resave-data smoppix StartedAt: 2025-02-12 19:16:20 -0500 (Wed, 12 Feb 2025) EndedAt: 2025-02-12 19:21:47 -0500 (Wed, 12 Feb 2025) EllapsedTime: 326.3 seconds RetCode: 0 Status: OK PackageFile: smoppix_0.99.43.tar.gz PackageFileSize: 4.601 MiB