Package: smoppix Version: 0.99.37 Command: /home/biocbuild/R/R/bin/R CMD INSTALL smoppix StartedAt: 2025-01-29 20:36:40 -0000 (Wed, 29 Jan 2025) EndedAt: 2025-01-29 20:37:45 -0000 (Wed, 29 Jan 2025) EllapsedTime: 65.0 seconds RetCode: 0 Status: OK