Package: smoppix Version: 0.99.34 Command: /home/biocbuild/R/R/bin/R CMD check --install=check:smoppix.install-out.txt --library=/home/biocbuild/R/R/site-library --no-vignettes --timings smoppix_0.99.34.tar.gz StartedAt: 2025-01-28 15:28:04 -0000 (Tue, 28 Jan 2025) EndedAt: 2025-01-28 16:08:04 -0000 (Tue, 28 Jan 2025) EllapsedTime: 2400.1 seconds RetCode: None Status: TIMEOUT CheckDir: smoppix.Rcheck Warnings: NA