############################################################################## ############################################################################## ### ### Running command: ### ### /Library/Frameworks/R.framework/Resources/bin/R CMD build --keep-empty-dirs --no-resave-data smoppix ### ############################################################################## ############################################################################## * checking for file ‘smoppix/DESCRIPTION’ ... OK * preparing ‘smoppix’: * checking DESCRIPTION meta-information ... OK * cleaning src Warning: /private/var/folders/r0/l4fjk6cj5xj0j3brt4bplpl40000gt/T/RtmptBemFd/Rbuild4a65f16a8d6/smoppix/man/addCell.Rd:55: unknown macro '\textit' * installing the package to process help pages Loading required namespace: smoppix * saving partial Rd database * creating vignettes ... OK * cleaning src * checking for LF line-endings in source and make files and shell scripts * checking for empty or unneeded directories * looking to see if a ‘data/datalist’ file should be added * building ‘smoppix_0.99.42.tar.gz’