Package: smoothclust Version: 1.3.0 Command: /home/biocbuild/bbs-3.21-bioc/R/bin/R CMD check --install=check:smoothclust.install-out.txt --library=/home/biocbuild/bbs-3.21-bioc/R/site-library --timings smoothclust_1.3.0.tar.gz StartedAt: 2025-02-04 02:52:53 -0500 (Tue, 04 Feb 2025) EndedAt: 2025-02-04 03:02:45 -0500 (Tue, 04 Feb 2025) EllapsedTime: 591.7 seconds RetCode: 0 Status: OK CheckDir: smoothclust.Rcheck Warnings: 0