Package: slalom Version: 1.31.0 Command: /home/biocbuild/R/R/bin/R CMD build --keep-empty-dirs --no-resave-data slalom StartedAt: 2025-10-03 03:18:00 -0000 (Fri, 03 Oct 2025) EndedAt: 2025-10-03 03:19:56 -0000 (Fri, 03 Oct 2025) EllapsedTime: 116.0 seconds RetCode: 0 Status: OK PackageFile: slalom_1.31.0.tar.gz PackageFileSize: 17.47 MiB